BEGIN:VCALENDAR
VERSION:2.0
PRODID:-//Sabre//Sabre VObject 4.5.7//EN
CALSCALE:GREGORIAN
BEGIN:VEVENT
UID:sabre-vobject-00ffa0c7-2f32-4e9d-b0b0-6ca6af90867a
DTSTAMP:20260425T190050Z
SUMMARY:Spielenachmittag für Jung und Alt
DTSTART;TZID=Europe/Berlin:20270413T150000
DTEND;TZID=Europe/Berlin:20270413T170000
ORGANIZER;CN=Freiwilligenbüro aktive hohe börde:MAILTO:info@aktivehoheboe
 rde.de
LOCATION:Raum derKirchengemeinde in Schnarsleben\, Kirchplatz 5\, Kirchplat
 z 5\, Hohe Börde (Niederndodeleben)
GEO:52.14050585;11.499152440391
DESCRIPTION:Alle Generationen spielen miteinander.
BEGIN:VALARM
TRIGGER;VALUE=DURATION:P1D
ACTION:DISPLAY
DESCRIPTION:Spielenachmittag für Jung und Alt
END:VALARM
END:VEVENT
END:VCALENDAR
