BEGIN:VCALENDAR
VERSION:2.0
PRODID:-//Sabre//Sabre VObject 4.5.7//EN
CALSCALE:GREGORIAN
BEGIN:VEVENT
UID:sabre-vobject-548b3d23-bdf2-4d11-8946-7f6975dc7c96
DTSTAMP:20260425T185828Z
SUMMARY:Repaircafe
DTSTART;TZID=Europe/Berlin:20270310T143000
DTEND;TZID=Europe/Berlin:20270310T180000
ORGANIZER;CN=Repaircafé Hohe Börde:MAILTO:repaircafe@aktivehoheboerde.de
LOCATION:Repaircafé\, "Haus des Ehrenamtes" ehemaliges Hortgebäude\, Kirc
 hstraße 3\, Hermsdorf (Hermsdorf)
GEO:52.1855692;11.4779462
DESCRIPTION:Wir bieten einen kostenlosen Reparaturservice von kleineren Hau
 shaltsgeräten an. Alles was unter den Arm passt\,nehmen wir unter die Lup
 e.\nWir bieten einen kostenlosen Reparaturservice von kleineren Haushaltsg
 eräten an. Alles was unter den Arm passt\,nehmen wir unter die Lupe. Zu d
 en Öffungszeiten sind wir für Euch da. Gern könnte Ihr auch per E-Mail 
 mit uns Kontakt aufnehmen. Wir freuen uns auf Euch. Ein Tässchen Kaffee u
 nd ein gutes Buch aus unserer Lesecke steht für unsere Gäste immer berei
 t.\nIn manchen Fällen werden Ersatzteile benötigt\, die bis zum nächste
 n Repaircafé-Termin besorgt werden müssen. Die Ersatzteile müssen von d
 en „Kunden“ (Besuchern) bezahlt werden.\nRepaircafés können keine Ga
 rantie für ein Gelingen der Reparatur geben Vor der Reparatur wird eine E
 rklärung zur begrenzten Haftung unterschrieben.
BEGIN:VALARM
TRIGGER;VALUE=DURATION:P1D
ACTION:DISPLAY
DESCRIPTION:Repaircafe
END:VALARM
END:VEVENT
END:VCALENDAR
